BEGIN:VCALENDAR
VERSION:2.0
PRODID:-//nachhaltigeuniversitaeten.at - ECPv6.15.20//NONSGML v1.0//EN
CALSCALE:GREGORIAN
METHOD:PUBLISH
X-WR-CALNAME:nachhaltigeuniversitaeten.at
X-ORIGINAL-URL:https://nachhaltigeuniversitaeten.at
X-WR-CALDESC:Veranstaltungen für nachhaltigeuniversitaeten.at
REFRESH-INTERVAL;VALUE=DURATION:PT1H
X-Robots-Tag:noindex
X-PUBLISHED-TTL:PT1H
BEGIN:VTIMEZONE
TZID:Europe/Vienna
BEGIN:DAYLIGHT
TZOFFSETFROM:+0100
TZOFFSETTO:+0200
TZNAME:CEST
DTSTART:20250330T010000
END:DAYLIGHT
BEGIN:STANDARD
TZOFFSETFROM:+0200
TZOFFSETTO:+0100
TZNAME:CET
DTSTART:20251026T010000
END:STANDARD
BEGIN:DAYLIGHT
TZOFFSETFROM:+0100
TZOFFSETTO:+0200
TZNAME:CEST
DTSTART:20260329T010000
END:DAYLIGHT
BEGIN:STANDARD
TZOFFSETFROM:+0200
TZOFFSETTO:+0100
TZNAME:CET
DTSTART:20261025T010000
END:STANDARD
BEGIN:DAYLIGHT
TZOFFSETFROM:+0100
TZOFFSETTO:+0200
TZNAME:CEST
DTSTART:20270328T010000
END:DAYLIGHT
BEGIN:STANDARD
TZOFFSETFROM:+0200
TZOFFSETTO:+0100
TZNAME:CET
DTSTART:20271031T010000
END:STANDARD
END:VTIMEZONE
BEGIN:VEVENT
DTSTART;TZID=Europe/Vienna:20260510T000000
DTEND;TZID=Europe/Vienna:20260510T235959
DTSTAMP:20260425T200920
CREATED:20260408T102720Z
LAST-MODIFIED:20260408T102720Z
UID:10182-1778371200-1778457599@nachhaltigeuniversitaeten.at
SUMMARY:Klimabiennale 2026
DESCRIPTION:Wenn Sprache an ihre Grenzen stößt\, öffnet Kunst neue Räume. \n\n\n\n Unter dem Leitmotiv Unspeakable Worlds untersucht die Klima Biennale Wien die Komplexität der Klimakrise und ihre globalen Verflechtungen. Sie bringt Kunst\, Wissenschaft und Gesellschaft zusammen\, um neue Perspektiven für eine lebenswerte Zukunft zu erproben.  \n\n\n\nVom KunstHausWien aus entfaltet das Festival sein Programm erneut in der ganzen Stadt und bringt dabei Kunst gezielt in den öffentlichen Raum. Jede Woche rückt eine andere Programmsäule in den Fokus. \n\n\n\nMehr zur Klimabiennale und zum Programm gibt es hier: Klima Biennale Wien
URL:https://nachhaltigeuniversitaeten.at/event/klimabiennale-2026/
CATEGORIES:Ausstellung,Konferenz,Workshop
END:VEVENT
BEGIN:VEVENT
DTSTART;TZID=Europe/Vienna:20260528T090000
DTEND;TZID=Europe/Vienna:20260528T190000
DTSTAMP:20260425T200920
CREATED:20260415T100142Z
LAST-MODIFIED:20260415T100143Z
UID:10211-1779958800-1779994800@nachhaltigeuniversitaeten.at
SUMMARY:Green Science Festival
DESCRIPTION:Transitioning to sustainable research practices together\n\n\n\n\n\nGreen Science Festival is a one-day festival where science\, sustainability\, and innovation come together. The event brings researchers\, professionals\, students\, and changemakers into one shared space to exchange ideas\, research\, and practical insights that contribute to a more sustainable future. \n\n\n\nOn 28 May 2026\, the festival offers a diverse program of talks\, presentations\, and discussions\, highlighting both scientific research and real-world applications. From emerging technologies and environmental sciences to social innovation and policy\, the Green Science Festival creates room for cross-disciplinary perspectives and collaboration. \n\n\n\nBesides attending the festival in person in Amsterdam\, you can also experience the event through our high-quality online broadcast. Several communities will host satellite locations where you can watch the event together on a big screen. Check our satellite locations to see if there’s one near you! \n\n\n\nRegistration until the 21st of April 2026: Green Science Festival 2026 – Green Labs NL
URL:https://nachhaltigeuniversitaeten.at/event/green-science-festival/
LOCATION:NEMO Science Museum und ONLINE
CATEGORIES:Konferenz
END:VEVENT
END:VCALENDAR