BEGIN:VCALENDAR
VERSION:2.0
PRODID:-//nachhaltigeuniversitaeten.at - ECPv6.15.20//NONSGML v1.0//EN
CALSCALE:GREGORIAN
METHOD:PUBLISH
X-ORIGINAL-URL:https://nachhaltigeuniversitaeten.at
X-WR-CALDESC:Veranstaltungen für nachhaltigeuniversitaeten.at
REFRESH-INTERVAL;VALUE=DURATION:PT1H
X-Robots-Tag:noindex
X-PUBLISHED-TTL:PT1H
BEGIN:VTIMEZONE
TZID:Europe/Vienna
BEGIN:DAYLIGHT
TZOFFSETFROM:+0100
TZOFFSETTO:+0200
TZNAME:CEST
DTSTART:20240331T010000
END:DAYLIGHT
BEGIN:STANDARD
TZOFFSETFROM:+0200
TZOFFSETTO:+0100
TZNAME:CET
DTSTART:20241027T010000
END:STANDARD
BEGIN:DAYLIGHT
TZOFFSETFROM:+0100
TZOFFSETTO:+0200
TZNAME:CEST
DTSTART:20250330T010000
END:DAYLIGHT
BEGIN:STANDARD
TZOFFSETFROM:+0200
TZOFFSETTO:+0100
TZNAME:CET
DTSTART:20251026T010000
END:STANDARD
BEGIN:DAYLIGHT
TZOFFSETFROM:+0100
TZOFFSETTO:+0200
TZNAME:CEST
DTSTART:20260329T010000
END:DAYLIGHT
BEGIN:STANDARD
TZOFFSETFROM:+0200
TZOFFSETTO:+0100
TZNAME:CET
DTSTART:20261025T010000
END:STANDARD
BEGIN:DAYLIGHT
TZOFFSETFROM:+0100
TZOFFSETTO:+0200
TZNAME:CEST
DTSTART:20270328T010000
END:DAYLIGHT
BEGIN:STANDARD
TZOFFSETFROM:+0200
TZOFFSETTO:+0100
TZNAME:CET
DTSTART:20271031T010000
END:STANDARD
END:VTIMEZONE
BEGIN:VEVENT
DTSTART;TZID=Europe/Vienna:20250512T000000
DTEND;TZID=Europe/Vienna:20260113T235959
DTSTAMP:20260423T134443
CREATED:20250408T124751Z
LAST-MODIFIED:20250408T124753Z
UID:9025-1747008000-1768348799@nachhaltigeuniversitaeten.at
SUMMARY:Klimagerechtigkeit – Ethische Reflexion und transformatives Handeln
DESCRIPTION:Seminarreihe Klimagerechtigkeit findet im Sommersemester 2025 – Wintersemester 2025/26 statt. www.donau-uni.ac.at/klimagerechtigkeit \n\n\n\n\n\nDie Seminarreihe bietet eine Auseinandersetzung mit zentralen Aspekten der Klimakrise. Es handelt sich um ein niederschwelligen Weiterbildungsangebots (berufsbegleitend möglich; keine Prüfungen). Im Zentrum steht die Frage nach Klimagerechtigkeit\, also nach der ethischen Dimension der Klimakrise. Der globale Klimanotstand wirft zahlreiche\, gravierende moralische Fragen auf\, vor allem aufgrund der Asymmetrie zwischen den Hauptverursachern der Treibhausgasemissionen (reiche Länder des Nordens) und den derzeit Hauptbetroffenen der Erderhitzung und ihrer katastrophalen Folgen: nämlich arme Menschen\, Frauen\, Kinder\, indigene Völker in Ländern des globalen Südens\, die für die Folgen des Klimawandels besonders verletzlich sind. Aber auch in reichen Ländern wie Österreich ist die Betroffenheit durch die Folgen des Klimawandels sozial ungleich verteilt\, treffen sie Angehörige der Arbeiterschicht (z.B. Bauarbeiter) und sozial schwächere Gruppen stärker\, z.B. Personen\, deren Wohnung von Hitze stärker betroffen ist. Es geht dabei um die Konsequenzen von Extremwetterereignissen wie Hitze\, Dürre\, Trockenheit\, Starkregen und Überflutungen\, Hurrikans usw.\, die sich aufgrund der Störung des Klimasystems sowohl häufen als auch verstärken. \n\n\n\nMehr zur Seminarreihe Klimagerechtigkeit findet sich in dem folgenden Folder:\n\n\n\nFolder_Klimagerechtigkeit-2025-26Herunterladen
URL:https://nachhaltigeuniversitaeten.at/event/klimagerechtigkeit/
END:VEVENT
BEGIN:VEVENT
DTSTART;TZID=Europe/Vienna:20250922T170000
DTEND;TZID=Europe/Vienna:20250922T190000
DTSTAMP:20260423T134443
CREATED:20250903T080103Z
LAST-MODIFIED:20250903T080104Z
UID:9624-1758560400-1758567600@nachhaltigeuniversitaeten.at
SUMMARY:25. Steirisches Klima- und Energieforum
DESCRIPTION:Schwerpunkt des im Auftrag des Landes Steiermark und vom CCCA –Climate Change Centre Austria organisierten und durchgeführten 25. Steirischen Klima- und Energieforum ist der Zweite Österreichische Sachstandsbericht zum Klimawandel (AAR2)\, dessen Veröffentlichung am17. Juni 2025 stattfand. \n\n\n\nZiel dieses umfassenden\, interdisziplinären Werkes ist es\, die wissenschaftliche Literatur zum Klimawandel in Österreich und seinen Folgen aufzubereiten sowie Vermeidungspotentiale\, Anpassungsmöglichkeiten und Transformationspfade aufzuzeigen. Der Bericht wird nach den Methodenund Prozessen des Weltklimarats (IPCC) von mehr als 150 Wissenschafter*innen geschrieben. Expert*innen\, die an diesem Bericht mitgewirkt haben\, sind zu Gast. Darunter auch AAR2 Co-Chair Daniel Huppmann von der IIASA und Leitautorin (Kapitel 6: Politische\, juristische\, wirtschaftlicheund gesellschaftliche Aspekte der Klima-Governance) Daniela Kletzan-Slamanig vom WIFO. \n\n\n\nDen zweiten Teil dieses besonderen Klimaforums stellt die Verleihung des Green Academia Awards der Universität Graz dar\, der herausragende Forschungsleistungen bei gleichzeitiger nachhaltiger dienstlicher Reisemobilität auszeichnet und ein wichtiges Instrument auf dem Weg zu echter Klimaneutralität darstellt. Forscher*innen des Wegener Center für Klima und Globalen Wandel haben zur Vergabe des Preises eine spezielle Berechnungsmethode entwickelt\, die gemeinsam mit der Abteilung für Leistungs- und Qualitätsmanagement umgesetzt wird. Gottfried Kirchengast vom Wegener Center wird zu Gast sein und über „Institutionelles Carbon Management an der Uni Graz“ als Praxisbeispiel sprechen. \n\n\n\nMehr Informationen zum Programm gibt es hier: 24. Steirisches Klima- und Energieforum \n\n\n\nAnmeldung bis 17. September unter folgendem Link: anmeldung.ccca.ac.at/25-steirisches-klima-und-energieforum
URL:https://nachhaltigeuniversitaeten.at/event/25-steirisches-klima-und-energieforum/
LOCATION:UNICORN (Conference Deck)\, Schubertstraße 6a\, Graz\, 8010\, Austria
END:VEVENT
BEGIN:VEVENT
DTSTART;TZID=Europe/Vienna:20250924T140000
DTEND;TZID=Europe/Vienna:20250924T180000
DTSTAMP:20260423T134443
CREATED:20250917T074006Z
LAST-MODIFIED:20250917T074007Z
UID:9673-1758722400-1758736800@nachhaltigeuniversitaeten.at
SUMMARY:Breaking the Silos
DESCRIPTION:„Breaking the Silos“ is a workshop on interdisciplinary collaboration for early-career researchers and professionals:\n\n\n\nSHiFT YRC_Interdisciplinary Coll. Workshop_AgendaHerunterladen
URL:https://nachhaltigeuniversitaeten.at/event/breaking-the-silos/
END:VEVENT
BEGIN:VEVENT
DTSTART;TZID=Europe/Vienna:20250924T183000
DTEND;TZID=Europe/Vienna:20250924T203000
DTSTAMP:20260423T134443
CREATED:20250915T085157Z
LAST-MODIFIED:20250915T085253Z
UID:9662-1758738600-1758745800@nachhaltigeuniversitaeten.at
SUMMARY:From the Amazon to Austria: An Indigenous Perspective on COP30
DESCRIPTION:📍Vienna\, exact location (tbc) \n\n\n\nJoin us for a unique dialogue where the Yawanawá tribe meets Austrian youth delegates and NGOs to share their perspectives ahead of the International Climate Conference – COP30 – in Brazil. The conversation will include words\, songs\, stories\, and videos\, offering insight into their culture\, worldview\, and contributions to global climate action. \n\n\n\nThe Yawanawá \, “people of the white-lipped peccary\,” are an Indigenous community of ~1\,200 living along the Rio Gregório in Brazil. As guardians of 180\,000 hectares of largely intact rainforest\, they demonstrate how Indigenous knowledge and traditions foster sustainable ways of living with nature. \n\n\n\nJoining this dialogue is a rare opportunity to hear firsthand how Indigenous perspectives shape solutions to the climate crisis\, inspire sustainable practices\, and highlight the critical role communities play in protecting our planet. \n\n\n\n👉 Register here: https://docs.google.com/forms/d/e/1FAIpQLSfNag3bHN6rrUi3jU6xwc9fmBCiGunMdQMEROtkKo1iIVkLTA/viewform?usp=dialog \n\n\n\nevent information_an indigenous perspective on COP30-1Herunterladen
URL:https://nachhaltigeuniversitaeten.at/event/from-the-amazon-to-austria-an-indigenous-perspective-on-cop30/
END:VEVENT
END:VCALENDAR