BEGIN:VCALENDAR
VERSION:2.0
PRODID:-//nachhaltigeuniversitaeten.at - ECPv6.15.20//NONSGML v1.0//EN
CALSCALE:GREGORIAN
METHOD:PUBLISH
X-WR-CALNAME:nachhaltigeuniversitaeten.at
X-ORIGINAL-URL:https://nachhaltigeuniversitaeten.at
X-WR-CALDESC:Veranstaltungen für nachhaltigeuniversitaeten.at
REFRESH-INTERVAL;VALUE=DURATION:PT1H
X-Robots-Tag:noindex
X-PUBLISHED-TTL:PT1H
BEGIN:VTIMEZONE
TZID:Europe/Vienna
BEGIN:DAYLIGHT
TZOFFSETFROM:+0100
TZOFFSETTO:+0200
TZNAME:CEST
DTSTART:20230326T010000
END:DAYLIGHT
BEGIN:STANDARD
TZOFFSETFROM:+0200
TZOFFSETTO:+0100
TZNAME:CET
DTSTART:20231029T010000
END:STANDARD
BEGIN:DAYLIGHT
TZOFFSETFROM:+0100
TZOFFSETTO:+0200
TZNAME:CEST
DTSTART:20240331T010000
END:DAYLIGHT
BEGIN:STANDARD
TZOFFSETFROM:+0200
TZOFFSETTO:+0100
TZNAME:CET
DTSTART:20241027T010000
END:STANDARD
BEGIN:DAYLIGHT
TZOFFSETFROM:+0100
TZOFFSETTO:+0200
TZNAME:CEST
DTSTART:20250330T010000
END:DAYLIGHT
BEGIN:STANDARD
TZOFFSETFROM:+0200
TZOFFSETTO:+0100
TZNAME:CET
DTSTART:20251026T010000
END:STANDARD
BEGIN:DAYLIGHT
TZOFFSETFROM:+0100
TZOFFSETTO:+0200
TZNAME:CEST
DTSTART:20260329T010000
END:DAYLIGHT
BEGIN:STANDARD
TZOFFSETFROM:+0200
TZOFFSETTO:+0100
TZNAME:CET
DTSTART:20261025T010000
END:STANDARD
END:VTIMEZONE
BEGIN:VEVENT
DTSTART;TZID=Europe/Vienna:20240930T000000
DTEND;TZID=Europe/Vienna:20241001T235959
DTSTAMP:20260421T160144
CREATED:20240829T131517Z
LAST-MODIFIED:20240829T131518Z
UID:8457-1727654400-1727827199@nachhaltigeuniversitaeten.at
SUMMARY:UniNEtZ Veranstaltung: „ZUKUNFTSDIALOG – TRANSFORMATION und VERANTWORTUNG“
DESCRIPTION:Die UniNEtZ Veranstaltung „ZUKUNFTSDIALOG – TRANSFORMATION und VERANTWORTUNG“ an der Universität Mozarteum greift eine Diskussion zur Rolle bzw. Selbstpositio­nierung der Wissenschaft auf. Angesichts der Gegenwartsdiagnose eines zunehmend instabilen Zustands des Ökosystems und der Gesellschaft und daher existenzbedrohenden Zukunftsaussichten kann Wissenschaft bzw. können Wissenschaftler*innen ihre traditionell neutrale Position nicht länger aufrechterhalten. \n\n\n\nAus dem Wissen um Missstände sowie um Handlungsoptionen und Handlungsnotwendigkeiten resultiert Verantwortung für Transformation\, die wesentlich weiter als das bloße Publizieren von Erkenntnissen reicht. \n\n\n\nIm Zentrum des UniNEtZ Zukunftsdialog steht die Neupositionierung von Wissenschaftler*innen und Künstler*innen\, die bewusst danach streben\, selbst transformativ zu werden\, und die diese normative Positionierung für Nachhaltigkeit auch klar deklarieren. In diesem Sinn zielt die Veranstaltung darauf ab\, dass Wissenschaftler*innen\, Künstler*innen und Verantwortliche für transformative Maßnahmen in Richtung einer nachhaltigen Zukunft in einen faktenbasierten\, lösungsorientierten und co-kreativen Austausch treten. \n\n\n\nOrt: Universität Mozarteum Salzburg\, Mirabellplatz 1\, 5020 Salzburg im Solitär (eigenes Gebäude\, rechts vom Haupteingang)Datum: 30.09 – 01.10.2024Anmeldelink: https://pretix.eu/uninetz/zukunftsdialogDas Programm finden Sie hier.
URL:https://nachhaltigeuniversitaeten.at/event/uninetz-zukunftsdialog/
END:VEVENT
BEGIN:VEVENT
DTSTART;TZID=Europe/Vienna:20241006T080000
DTEND;TZID=Europe/Vienna:20250131T170000
DTSTAMP:20260421T160144
CREATED:20240829T130006Z
LAST-MODIFIED:20240829T130009Z
UID:8451-1728201600-1738342800@nachhaltigeuniversitaeten.at
SUMMARY:Lectures for Future 2024
DESCRIPTION:Auch dieses Jahr finden im Wintersemester 2024/25 wieder die Lectures for Future an mehreren österreichischen Universitäten statt: L4F  \n\n\n\nHier einige Hinweise auf die einzelnen Angeboten an den Universitäten:  \n\n\n\nProgramm der Lectures for Future an der Universität für Musik und darstellende Kunst Wien (mdw)\n\n\n\nLectures for Future | grüne-mdw  \n\n\n\nWir rufen nach einem guten Leben für alle – aber wollen wir das wirklich? Oder geht es nur um den Erhalt unseres Wohlstandes\, unserer Privilegien\, unserer Bequemlichkeit? Die derzeitige Lebensweise im globalen Norden beruht auf Ausbeutung\, Enteignung\, Ungleichheit. \n\n\n\nWir sind aufgerufen\, alle bisherigen Systeme\, Haltungen und deren Denk- und Handlungsmuster zu hinterfragen und müssen die Komplexität der Lage verstehen lernen. Wir müssen das Risiko eingehen\, Welt neu zu denken\, neue Wege der Inspiration zu beschreiten und alte Gewohnheiten zu ver_üben. Dies bedarf einer „radikalen Vorstellungskraft“. \n\n\n\nDer Kunst in all ihren Facetten kommt in diesem Prozess eine bedeutsame Rolle zu\, da sie uns immer wieder zu einem anderen Wahrnehmen\, einem anderen Wissen einlädt. \n\n\n\nAuf der Suche nach künstlerischen Ausdrucksformen und Handlungsmöglichkeiten ergeben sich neue inhaltliche Fragen\, die uns in die Recherche / ins Forschen bringen. Das daraus resultierende Wissen / die neuen Informationen inspirieren wieder zu neuen künstlerischen Wegen. Solche Prozesse werden bei jedem_jeder einzelnen Teilnehmenden sowie für die ganze Gruppe angestoßen und begleitet. Das Ziel ist ein Aufheben von Trennungen\, mit denen Künstler_innen und Wissenschaftler_innen oft zu kämpfen haben: der Trennung zwischen Kunst und Wissenschaft\, zwischen verschiedenen künstlerischen/wissenschaftlichen Disziplinen\, zwischen Denken und Handeln\, zwischen Mensch sein und Künstler_in sein.
URL:https://nachhaltigeuniversitaeten.at/event/lectures-for-future-2024/
END:VEVENT
BEGIN:VEVENT
DTSTART;TZID=Europe/Vienna:20241008T093000
DTEND;TZID=Europe/Vienna:20241008T163000
DTSTAMP:20260421T160144
CREATED:20240829T130459Z
LAST-MODIFIED:20240829T130500Z
UID:8455-1728379800-1728405000@nachhaltigeuniversitaeten.at
SUMMARY:Künstliche Intelligenz und Gesellschaft – Bias\, Ungleichheiten\, Diskriminierungsstrukturen
DESCRIPTION:Die rasante Verbreitung von Technologien Künstlicher Intelligenz verändert unsere Bildungs-\, Arbeits- und Lebensrealitäten zunehmend. Medien- und Informationskompetenz und insbesondere eine kritische KI-Kompetenz (Critical AI Literacy) sind daher heute wichtiger denn je – vor allem mit Blick auf die Wahrung demokratischer Grundprinzipien und der Menschenrechte. \n\n\n\nIn der Veranstaltung „Künstliche Intelligenz und Gesellschaft – Bias\, Ungleichheiten\, Diskriminierungsstrukturen“ beschäftigen wir uns in Vorträgen und Workshops mit einigen drängenden Fragen rund um den Umgang mit Künstlicher Intelligenz. \n\n\n\nVorträge und Workshops von und mit: \n\n\n\n\nJulia Haas (OSZE)\n\n\n\nKatharina Klappheck (Gunda-Werner-Institut für Feminismus und Geschlechterdemokratie in derHeinrich-Böll-Stiftung)\n\n\n\nSimone Lackner (Universidade NOVA de Lisboa)\n\n\n\nEugenia Stamboliev (Universität Wien)\n\n\n\nStefan Strauß (Österreichische Akademie derWissenschaften)\n\n\n\n\nDie Veranstaltung findet im Dachsaal der Wiener Urania\, Uraniastr. 1\, 1010 Wien statt. \n\n\n\nHier können Sie sich zur Veranstaltung anmelden. \n\n\n\nHier gibt es mehr Informationen: Einladung: Künstliche Intelligenz und Gesellschaft – Bias\, Ungleichheiten\, Diskriminierungsstrukturen – Österreichische UNESCO-Kommission
URL:https://nachhaltigeuniversitaeten.at/event/kuenstliche-intelligenz-und-gesellschaft-bias-ungleichheiten-diskriminierungsstrukturen/
END:VEVENT
BEGIN:VEVENT
DTSTART;TZID=Europe/Vienna:20241010T000000
DTEND;TZID=Europe/Vienna:20241010T235959
DTSTAMP:20260421T160144
CREATED:20241002T094429Z
LAST-MODIFIED:20241002T094430Z
UID:8528-1728518400-1728604799@nachhaltigeuniversitaeten.at
SUMMARY:Nachhaltigkeitstag der Universität Graz
DESCRIPTION:AM 10.10. findet an der Universität der jährliche Nachhaltigkeitstag statt. Dieses Jahr ist das Thema „Wie ernährst du dich morgen?“.  \n\n\n\nDas gesamte Programm und der Link zur Anmeldung finden sich hier: Programm – Nachhaltigkeitstag 2024 – Nachhaltigkeitstag Uni Graz (uni-graz.at)
URL:https://nachhaltigeuniversitaeten.at/event/nachhaltigkeitstag-der-universitaet-graz/
END:VEVENT
BEGIN:VEVENT
DTSTART;TZID=Europe/Vienna:20241012T100000
DTEND;TZID=Europe/Vienna:20241012T170000
DTSTAMP:20260421T160144
CREATED:20240805T091537Z
LAST-MODIFIED:20240805T091538Z
UID:8328-1728727200-1728752400@nachhaltigeuniversitaeten.at
SUMMARY:Frauen machen Mobilität
DESCRIPTION:Unter dem Motto „Frauen bringen alles in Bewegung“ findet am Samstag\, 12. Oktober 2024 von 10-17 Uhr die 5. Online-Konferenz „FRAUEN MACHEN MOBILITÄT“ statt.Diesjähriges Thema: Frauen bringen alles in Bewegung \n\n\n\nMobilität bedeutet Bewegung\, Freiheit und Teilhabe. Wie Mobilität gefördert wird\, wirkt sich immens auf das soziale Leben\, den Klimaschutz und die Zukunftsfähigkeit unserer Gesellschaft aus. Wir Frauen haben eine klare Vision\, wie und wo gute Mobilität für uns alle gut funktionieren kann. Mobilität braucht eine feministische Perspektive und unsere klugen lauten Stimmen.Mit dabei sind unter anderem die Politikwissenschaftlerin Dr. Julia Reuschenbach und die Historikerin Prof. Dr. Hedwig Richter. \n\n\n\nMehr Informationen gibt es hier: „FRAUEN MACHEN MOBILität“ – Frauen machen Mobilität (frauenmachenmobilitaet.de)
URL:https://nachhaltigeuniversitaeten.at/event/frauen-machen-mobilitaet/
END:VEVENT
BEGIN:VEVENT
DTSTART;TZID=Europe/Vienna:20241016T170000
DTEND;TZID=Europe/Vienna:20250129T200000
DTSTAMP:20260421T160144
CREATED:20240826T112259Z
LAST-MODIFIED:20240826T112301Z
UID:8445-1729098000-1738180800@nachhaltigeuniversitaeten.at
SUMMARY:#studis: Lectures for Future @ mdw 2024/25
DESCRIPTION:Klima – Krise – Kunst \n\n\n\nDie Lectures for Future (L4F) sind eine hochschulübergreifende\, interdisziplinäre Vortragsreihe. Sie geben aktuelle Einblicke zum Themenkomplex der nachhaltigen Entwicklungsziele (SDGs) und beschäftigen sich mit den Zusammenhängen von Kunst\, Wissenschaft und Nachhaltigkeit. Sie fragen nach dem Potential künstlerischer Gestaltungsprozesse für sozial-ökologische Transformationen und suchen nach fächerübergreifenden\, vernetzenden Herangehensweisen und Lösungsansetzen\, um so das aktive Zukunftsdenken und -wissen zu stärken (futures literacy). \n\n\n\nL4F möchten einen kritischen öffentlichen Diskurs zu diesen Themen ermöglichen und diese langfristig an den beteiligten Hochschulen verankern. Zum Zielpublikum zählen neben allen Angehörigen der mdw auch interessierte mdw-externe Personen. \n\n\n\nSeit dem Wintersemester 2021/22 wird dieses Angebot an der mdw als Wahlfach für Studierende aller Studienrichtungen und Semester sowie als Weiterbildung für mdw-Angehörige angeboten. \n\n\n\nIm Wintersemester 2024/25 unter anderem auf den Themen Dekolonialisierung und Klimasolidarität. Das gesamte Programm findet sich hier: Lectures for Future | grüne-mdw
URL:https://nachhaltigeuniversitaeten.at/event/studis-lectures-for-future-mdw-2024-25/
END:VEVENT
BEGIN:VEVENT
DTSTART;TZID=Europe/Vienna:20241017T000000
DTEND;TZID=Europe/Vienna:20250627T235959
DTSTAMP:20260421T160144
CREATED:20240902T110257Z
LAST-MODIFIED:20240902T110258Z
UID:8459-1729123200-1751068799@nachhaltigeuniversitaeten.at
SUMMARY:#studis: Sustainability Challenge 2024/25
DESCRIPTION:Die Sustainability Challenge findet auch 2024/25 wieder statt!  \n\n\n\n60 Studierende – 7 Universitäten – 1 Ziel: zweisemestrige Wahllehrveranstaltung zum ThemaNachhaltigkeit\, mit Fokus auf den Sustainable Development Goals (SDGs). Masterstudierendeund fortgeschrittene Bachelorstudierende aller Studienrichtungen sind herzlich eingeladen\, sichfür diese interdisziplinäre\, universitätsübergreifende Lehrveranstaltung mit Impact zubewerben\, Praxiserfahrung sowie ECTS zu sammeln.Bewerbungen sind über das Online-Formular ab sofort bis 23. September möglich! \n\n\n\nMehr Infos gibt es auch hier:  \n\n\n\nSustainabilityChallenge_Infoblatt_2024.pdf (rce-vienna.at) \n\n\n\n(c) Sustainability Challenge \n\n\n\nDie Sustainability Challenge ist eine Chance\, sich einzubringen\, eigene Talente zu erkennen und sich persönlich weiterzuentwickeln! \n\n\n\n\nRaus aus der Bubble und rein in den Austausch mit Studierenden unterschiedlichster Studienrichtungen und Unis\n\n\n\nProjektarbeit statt Uni-Alltag aber mit 8 ECTS\n\n\n\nZusammenarbeit in einem interdisziplinären Team\n\n\n\nKeine Prüfung\, dafür intensive Projektarbeit mit Unternehmen und Organisationen\, die sich für Nachhaltigkeit einsetzen oder Gründungsluft mit dem eigenen Start-up schnuppern\n\n\n\nAustausch\, Input & Betreuung von Lehrenden der 7 Universitäten aus unterschiedlichen Fachbereichen\n\n\n\nWahllehrveranstaltung mit Schwerpunkt Nachhaltigkeit\, SDGs & Klimaschutz – Kunst\, Technik\, Sozial-\, Geistes- und Naturwissenschaften\n\n\n\nNeue Leute kennenlernen und das eigene Netzwerk ausbauen: Unternehmen\, Studierende\, Lehrende & weitere engagierte Menschen\n\n\n\nZukunftsperspektive und Jobchancen\n\n\n\nStart: Oktober 2024\n\n\n\n\nÜber die Sustainability Challenge Website kann man sich ab sofort bis zum 23.9.24 über das Online-Formular für eine Teilnahme bewerben. \n\n\n\nNähere Informationen zum Ablauf\, den Lehrenden sowie Projektpartner*innen unter www.sustainabilitychallenge.at
URL:https://nachhaltigeuniversitaeten.at/event/sustainability-challenge-2024-25/
END:VEVENT
BEGIN:VEVENT
DTSTART;TZID=Europe/Vienna:20241018T000000
DTEND;TZID=Europe/Vienna:20241018T235959
DTSTAMP:20260421T160144
CREATED:20240805T090838Z
LAST-MODIFIED:20240805T090839Z
UID:8323-1729209600-1729295999@nachhaltigeuniversitaeten.at
SUMMARY:KlimaDialog Burgenland
DESCRIPTION:Der KlimaDialog kommt am 18. Oktober 2024 ins Burgenland.Motto: Energiewende gemeinsam meistern. Von der Herausforderung zum Erfolgsgeheimnis. \n\n\n\nSave the Date Burgenland_062024_UAHerunterladen
URL:https://nachhaltigeuniversitaeten.at/event/klimadialog-burgenland/
END:VEVENT
BEGIN:VEVENT
DTSTART;TZID=Europe/Vienna:20241022T130000
DTEND;TZID=Europe/Vienna:20241022T180000
DTSTAMP:20260421T160144
CREATED:20241015T100711Z
LAST-MODIFIED:20241015T100712Z
UID:8555-1729602000-1729620000@nachhaltigeuniversitaeten.at
SUMMARY:Nachhaltigkeitstag der Vetmeduni
DESCRIPTION:Am 22.10.2024 findet der 2. Nachhaltigkeitstag im Festsaal der Veterinärmedizinischen Universität statt. Unter dem Motto: „Grüner wird’s nicht? Zur Transformation der Veterinärmedizin“ soll die Neuorientierung der Uni genauer erkundet und die verschiedenen Aspekte diskutiert werden. Der psychologische Hintergrund für diese schwierigen Veränderungen wird in der Keynote von Thomas Brudermann von der Uni Graz beleuchtet\, weitere Impulsreferate liefern Einblicke aus der Schweinepraxis\, der Lebensmittelproduktion und der Klimaforschung. Eine Podiumsdiskussion wird wieder die spannendsten Aspekte herausgreifen. \n\n\n\nProgramm_Nachhaltigkeitstag20241022Herunterladen\n\n\n\nOrt:Name: Festsaal der VetmeduniBeschreibung: Gebäude CA\, 1. Stock
URL:https://nachhaltigeuniversitaeten.at/event/nachhaltigkeitstag-der-vetmeduni/
END:VEVENT
END:VCALENDAR