BEGIN:VCALENDAR
VERSION:2.0
PRODID:-//nachhaltigeuniversitaeten.at - ECPv6.15.20//NONSGML v1.0//EN
CALSCALE:GREGORIAN
METHOD:PUBLISH
X-ORIGINAL-URL:https://nachhaltigeuniversitaeten.at
X-WR-CALDESC:Veranstaltungen für nachhaltigeuniversitaeten.at
REFRESH-INTERVAL;VALUE=DURATION:PT1H
X-Robots-Tag:noindex
X-PUBLISHED-TTL:PT1H
BEGIN:VTIMEZONE
TZID:Europe/Vienna
BEGIN:DAYLIGHT
TZOFFSETFROM:+0100
TZOFFSETTO:+0200
TZNAME:CEST
DTSTART:20250330T010000
END:DAYLIGHT
BEGIN:STANDARD
TZOFFSETFROM:+0200
TZOFFSETTO:+0100
TZNAME:CET
DTSTART:20251026T010000
END:STANDARD
BEGIN:DAYLIGHT
TZOFFSETFROM:+0100
TZOFFSETTO:+0200
TZNAME:CEST
DTSTART:20260329T010000
END:DAYLIGHT
BEGIN:STANDARD
TZOFFSETFROM:+0200
TZOFFSETTO:+0100
TZNAME:CET
DTSTART:20261025T010000
END:STANDARD
BEGIN:DAYLIGHT
TZOFFSETFROM:+0100
TZOFFSETTO:+0200
TZNAME:CEST
DTSTART:20270328T010000
END:DAYLIGHT
BEGIN:STANDARD
TZOFFSETFROM:+0200
TZOFFSETTO:+0100
TZNAME:CET
DTSTART:20271031T010000
END:STANDARD
END:VTIMEZONE
BEGIN:VEVENT
DTSTART;TZID=Europe/Vienna:20260608T160000
DTEND;TZID=Europe/Vienna:20260610T130000
DTSTAMP:20260425T231053
CREATED:20251222T085743Z
LAST-MODIFIED:20260108T103934Z
UID:9887-1780934400-1781096400@nachhaltigeuniversitaeten.at
SUMMARY:4. Jahreskongress Bündnis Nachhaltige Hochschulen
DESCRIPTION:Zukunft gestalten: Kreislaufwirtschaft trifft Langlebigkeit\n\n\n\nRessourcenschonende und nachhaltige Perspektiven aus Hochschule\, Gesellschaft und Wirtschaft.Der Jahreskongress beleuchtet\, wie Kreislaufwirtschaft und Langlebigkeit neue Wege eröffnen können\, um Ressourcen zu schonen und nachhaltige Lösungen voranzutreiben. Dabei stehen neben der Ressourcenschonung und der Abfallvermeidung\, auch das wirtschaftliche Potential\, neue Wertschöpfungsketten und die gesellschaftliche Relevanz dieses nachhaltigen Wirtschaftssystems im Blickpunkt. Wir freuen uns auf Beiträge aus allen wissenschaftlichen Disziplinen\, der Wirtschaft und der Zivilgesellschaft. Die Teilnehmer*innen sind herzlich eingeladen\, Vorträge\, Beiträge und Ideen einzubringen\, um gemeinsam Impulse für ressourcenschonende und zukunftsfähige Lösungen über alle Querschnittsbereiche zu setzen. \n\n\n\nKongresszeitenMontag\, 08. Juni 2026\, ab 16:00 UhrDienstag\, 09. Juni 2026\, 9:00 Uhr – ca. 20:00 UhrMittwoch\, 10. Juni 2026\, bis 13:00 Uhr \n\n\n\nOrt: FHV – Vorarlberg University of Applied Science in Dornbirn \n\n\n\nSave the Date Jahrestagung BNH 2026Herunterladen
URL:https://nachhaltigeuniversitaeten.at/event/4-jahreskongress-buendnis-nachhaltige-hochschulen/
END:VEVENT
END:VCALENDAR