BEGIN:VCALENDAR
VERSION:2.0
PRODID:-//nachhaltigeuniversitaeten.at - ECPv6.15.20//NONSGML v1.0//EN
CALSCALE:GREGORIAN
METHOD:PUBLISH
X-WR-CALNAME:nachhaltigeuniversitaeten.at
X-ORIGINAL-URL:https://nachhaltigeuniversitaeten.at
X-WR-CALDESC:Veranstaltungen für nachhaltigeuniversitaeten.at
REFRESH-INTERVAL;VALUE=DURATION:PT1H
X-Robots-Tag:noindex
X-PUBLISHED-TTL:PT1H
BEGIN:VTIMEZONE
TZID:Europe/Vienna
BEGIN:DAYLIGHT
TZOFFSETFROM:+0100
TZOFFSETTO:+0200
TZNAME:CEST
DTSTART:20250330T010000
END:DAYLIGHT
BEGIN:STANDARD
TZOFFSETFROM:+0200
TZOFFSETTO:+0100
TZNAME:CET
DTSTART:20251026T010000
END:STANDARD
BEGIN:DAYLIGHT
TZOFFSETFROM:+0100
TZOFFSETTO:+0200
TZNAME:CEST
DTSTART:20260329T010000
END:DAYLIGHT
BEGIN:STANDARD
TZOFFSETFROM:+0200
TZOFFSETTO:+0100
TZNAME:CET
DTSTART:20261025T010000
END:STANDARD
BEGIN:DAYLIGHT
TZOFFSETFROM:+0100
TZOFFSETTO:+0200
TZNAME:CEST
DTSTART:20270328T010000
END:DAYLIGHT
BEGIN:STANDARD
TZOFFSETFROM:+0200
TZOFFSETTO:+0100
TZNAME:CET
DTSTART:20271031T010000
END:STANDARD
END:VTIMEZONE
BEGIN:VEVENT
DTSTART;TZID=Europe/Vienna:20260318T000000
DTEND;TZID=Europe/Vienna:20260319T235959
DTSTAMP:20260425T182818
CREATED:20251201T103114Z
LAST-MODIFIED:20251201T103115Z
UID:9820-1773792000-1773964799@nachhaltigeuniversitaeten.at
SUMMARY:Symposium „Universities as Change Agents in Sustainable Development“
DESCRIPTION:The global pursuit of the United Nations Sustainable Development Goals (SDGs) demands transformative action across all sectors of society. Universities\, as hubs of knowledge creation\, critical thinking\, and future leadership\, hold a unique and powerful position. They are not merely institutions of education but ecosystems capable of driving sustainability through research\, teaching\, operations\, and community engagement. \n\n\n\nThe Symposium „Universities as Change Agents in Sustainable Development“ is founded on the belief that the academic sector needs to move beyond siloed initiatives and theoretical discourse to become integrated\, proactive\, and measurable change agents. The event will provide a platform for forging new partnerships and co-creating actionable strategies that harness the full potential of universities to address the most pressing ecological\, social\, and economic challenges of our time. \n\n\n\nWed\, 18 Mar 2026 – Thu\, 19 Mar 2026Tallinn University\, Tallinn\, Estonia \n\n\n\nHAW-Hamburg: Symposium „Universities as Change Agents in Sustainable Development“
URL:https://nachhaltigeuniversitaeten.at/event/symposium-universities-as-change-agents-in-sustainable-development/
END:VEVENT
END:VCALENDAR