BEGIN:VCALENDAR
VERSION:2.0
PRODID:-//nachhaltigeuniversitaeten.at - ECPv6.15.20//NONSGML v1.0//EN
CALSCALE:GREGORIAN
METHOD:PUBLISH
X-ORIGINAL-URL:https://nachhaltigeuniversitaeten.at
X-WR-CALDESC:Veranstaltungen für nachhaltigeuniversitaeten.at
REFRESH-INTERVAL;VALUE=DURATION:PT1H
X-Robots-Tag:noindex
X-PUBLISHED-TTL:PT1H
BEGIN:VTIMEZONE
TZID:Europe/Vienna
BEGIN:DAYLIGHT
TZOFFSETFROM:+0100
TZOFFSETTO:+0200
TZNAME:CEST
DTSTART:20250330T010000
END:DAYLIGHT
BEGIN:STANDARD
TZOFFSETFROM:+0200
TZOFFSETTO:+0100
TZNAME:CET
DTSTART:20251026T010000
END:STANDARD
BEGIN:DAYLIGHT
TZOFFSETFROM:+0100
TZOFFSETTO:+0200
TZNAME:CEST
DTSTART:20260329T010000
END:DAYLIGHT
BEGIN:STANDARD
TZOFFSETFROM:+0200
TZOFFSETTO:+0100
TZNAME:CET
DTSTART:20261025T010000
END:STANDARD
BEGIN:DAYLIGHT
TZOFFSETFROM:+0100
TZOFFSETTO:+0200
TZNAME:CEST
DTSTART:20270328T010000
END:DAYLIGHT
BEGIN:STANDARD
TZOFFSETFROM:+0200
TZOFFSETTO:+0100
TZNAME:CET
DTSTART:20271031T010000
END:STANDARD
END:VTIMEZONE
BEGIN:VEVENT
DTSTART;TZID=Europe/Vienna:20260224T160000
DTEND;TZID=Europe/Vienna:20260224T190000
DTSTAMP:20260425T165921
CREATED:20260126T103218Z
LAST-MODIFIED:20260126T103222Z
UID:9938-1771948800-1771959600@nachhaltigeuniversitaeten.at
SUMMARY:Laboratory Plastic Recycling: Sustainable Research at Uni Wien and Beyond
DESCRIPTION:The Sustainability Office of Uni Wien and Green Labs Austria are hosting a symposium about “Laboratory Plastic Recycling: Sustainable Research at Uni Wien and Beyond”\, taking place on 24 February 2026\, 16:00-19:00 at the University of Vienna Biology Building.  \n\n\n\nLaboratories are among the most resource-intensive environments at universities\, with plastic consumables accounting for a large share of waste. This symposium brings together experts from research\, operations\, and waste management to discuss practical approaches to laboratory plastic recycling and broader sustainability in research.  \n\n\n\nRegistration and further details: \n\n\n\nhttps://nachhaltigkeit.univie.ac.at/24-februar-2026-laboratory-plastic-recycling-symposium \n\n\n\n20260224_Symposium Plastic Recycling_A2_PlakatHerunterladen
URL:https://nachhaltigeuniversitaeten.at/event/laboratory-plastic-recycling-sustainable-research-at-uni-wien-and-beyond/
END:VEVENT
END:VCALENDAR