BEGIN:VCALENDAR
VERSION:2.0
PRODID:-//nachhaltigeuniversitaeten.at - ECPv6.15.20//NONSGML v1.0//EN
CALSCALE:GREGORIAN
METHOD:PUBLISH
X-WR-CALNAME:nachhaltigeuniversitaeten.at
X-ORIGINAL-URL:https://nachhaltigeuniversitaeten.at
X-WR-CALDESC:Veranstaltungen für nachhaltigeuniversitaeten.at
REFRESH-INTERVAL;VALUE=DURATION:PT1H
X-Robots-Tag:noindex
X-PUBLISHED-TTL:PT1H
BEGIN:VTIMEZONE
TZID:Europe/Vienna
BEGIN:DAYLIGHT
TZOFFSETFROM:+0100
TZOFFSETTO:+0200
TZNAME:CEST
DTSTART:20250330T010000
END:DAYLIGHT
BEGIN:STANDARD
TZOFFSETFROM:+0200
TZOFFSETTO:+0100
TZNAME:CET
DTSTART:20251026T010000
END:STANDARD
BEGIN:DAYLIGHT
TZOFFSETFROM:+0100
TZOFFSETTO:+0200
TZNAME:CEST
DTSTART:20260329T010000
END:DAYLIGHT
BEGIN:STANDARD
TZOFFSETFROM:+0200
TZOFFSETTO:+0100
TZNAME:CET
DTSTART:20261025T010000
END:STANDARD
BEGIN:DAYLIGHT
TZOFFSETFROM:+0100
TZOFFSETTO:+0200
TZNAME:CEST
DTSTART:20270328T010000
END:DAYLIGHT
BEGIN:STANDARD
TZOFFSETFROM:+0200
TZOFFSETTO:+0100
TZNAME:CET
DTSTART:20271031T010000
END:STANDARD
END:VTIMEZONE
BEGIN:VEVENT
DTSTART;TZID=Europe/Vienna:20260212T183000
DTEND;TZID=Europe/Vienna:20260212T203000
DTSTAMP:20260425T164639
CREATED:20260204T103417Z
LAST-MODIFIED:20260204T113243Z
UID:9980-1770921000-1770928200@nachhaltigeuniversitaeten.at
SUMMARY:Online: Co-Bio Projekt & Biodiversify UBB
DESCRIPTION:Ko-kreative Biodiversitätsförderung an Hochschulstandorten in Wien und in Städten in ganz Europa\n\n\n\n\n\nBeim kommenden Online-Netzwerktreffen der Hochschulinitiativen für Biodiversität am 12/02/2026 erfahren wir mehr über das EU-Projekt Co-creating Biodiversity in Urban Areas und den lokalen Fall „Biodiversify UBB“ von Öko Campus Wien\, einem Gründungsverein des internationalen Biodiversitäts-Netzwerkes aus Wien (welche auch Mitglied der AG Studierende der Allianz sind). Am Campus des neuen Biologiegebäudes in St.Marx und am Hauptcampus der Universität Wien wurden von 2024 bis heute unterschiedliche Maßnahmen für mehr Biodiversität vom Verein Öko Campus Wien und vielen Partner*innen umgesetzt. Weiters werden die Co-Bio Projektmaterialien zu Ko-Kreation\, Biodiversitätsprojekten und der Evaluierungsbericht vorgestellt. \n\n\n\nMehr Infos über das Projekt in Wien findet ihr hier: https://oekocampuswien.com/2025/03/21/biodiversify-ubb-2025/Die Materialien und Erfahrungen aus dem Projekt werden sicherlich sehr spannend für Biodiversitätsengagierte auf Campusstandorten und darüber hinaus.Weiters werden das kommende Präsenztreffen an der Uni Tübingen https://www.buntewiese-tuebingen.de/ vorgestellt und ein Workshop der PUT Poznan/ Manchester School of Architecture von vorgestellt und besprochen. Das Treffen findet auf Englisch statt.Seid dabei am 12/02/2026 19:00 – 20:30 UhrMeeting Link: https://tinyurl.com/3f2d48dbOnboarding: ab 18.30 Uhr \n\n\n\nIhr seid herzlich eingeladen\, einzunehmen und auch Teil des Netzwerkes zu werden. Meldet euch gerne.In Österreich ist Isabella Klebinger vom Verein Öko Campus Wien Sprecherin des Netzwerkes.  \n\n\n\n\n\n\n\n\n\n\n\n\n\n\n\n\n\nNetzwerk der Hochschulinitiativen für Biodiversität (HIB) \n\n\n\nGemeinsam für mehr Biodiversität am Campus\, in Stadt und Region!Netzwerk HIB – Hochschulinitiativen für Biodiversität  \n\n\n\nnetzwerk-hib@posteo.de \n\n\n\nHIB Socials \n\n\n\nhttps://www.linkedin.com/in/netzwerk-hib/  \n\n\n\nhttps://bsky.app/profile/netzwerk-hib.bsky.social \n\n\n\nhttps://www.instagram.com/netzwerk__hib/ 
URL:https://nachhaltigeuniversitaeten.at/event/online-hib-netzwerk-treffen-eu-co-bio/
END:VEVENT
END:VCALENDAR