BEGIN:VCALENDAR
VERSION:2.0
PRODID:-//nachhaltigeuniversitaeten.at - ECPv6.15.20//NONSGML v1.0//EN
CALSCALE:GREGORIAN
METHOD:PUBLISH
X-ORIGINAL-URL:https://nachhaltigeuniversitaeten.at
X-WR-CALDESC:Veranstaltungen für nachhaltigeuniversitaeten.at
REFRESH-INTERVAL;VALUE=DURATION:PT1H
X-Robots-Tag:noindex
X-PUBLISHED-TTL:PT1H
BEGIN:VTIMEZONE
TZID:Europe/Vienna
BEGIN:DAYLIGHT
TZOFFSETFROM:+0100
TZOFFSETTO:+0200
TZNAME:CEST
DTSTART:20240331T010000
END:DAYLIGHT
BEGIN:STANDARD
TZOFFSETFROM:+0200
TZOFFSETTO:+0100
TZNAME:CET
DTSTART:20241027T010000
END:STANDARD
BEGIN:DAYLIGHT
TZOFFSETFROM:+0100
TZOFFSETTO:+0200
TZNAME:CEST
DTSTART:20250330T010000
END:DAYLIGHT
BEGIN:STANDARD
TZOFFSETFROM:+0200
TZOFFSETTO:+0100
TZNAME:CET
DTSTART:20251026T010000
END:STANDARD
BEGIN:DAYLIGHT
TZOFFSETFROM:+0100
TZOFFSETTO:+0200
TZNAME:CEST
DTSTART:20260329T010000
END:DAYLIGHT
BEGIN:STANDARD
TZOFFSETFROM:+0200
TZOFFSETTO:+0100
TZNAME:CET
DTSTART:20261025T010000
END:STANDARD
BEGIN:DAYLIGHT
TZOFFSETFROM:+0100
TZOFFSETTO:+0200
TZNAME:CEST
DTSTART:20270328T010000
END:DAYLIGHT
BEGIN:STANDARD
TZOFFSETFROM:+0200
TZOFFSETTO:+0100
TZNAME:CET
DTSTART:20271031T010000
END:STANDARD
END:VTIMEZONE
BEGIN:VEVENT
DTSTART;TZID=Europe/Vienna:20250512T000000
DTEND;TZID=Europe/Vienna:20260113T235959
DTSTAMP:20260423T182917
CREATED:20250408T124751Z
LAST-MODIFIED:20250408T124753Z
UID:9025-1747008000-1768348799@nachhaltigeuniversitaeten.at
SUMMARY:Klimagerechtigkeit – Ethische Reflexion und transformatives Handeln
DESCRIPTION:Seminarreihe Klimagerechtigkeit findet im Sommersemester 2025 – Wintersemester 2025/26 statt. www.donau-uni.ac.at/klimagerechtigkeit \n\n\n\n\n\nDie Seminarreihe bietet eine Auseinandersetzung mit zentralen Aspekten der Klimakrise. Es handelt sich um ein niederschwelligen Weiterbildungsangebots (berufsbegleitend möglich; keine Prüfungen). Im Zentrum steht die Frage nach Klimagerechtigkeit\, also nach der ethischen Dimension der Klimakrise. Der globale Klimanotstand wirft zahlreiche\, gravierende moralische Fragen auf\, vor allem aufgrund der Asymmetrie zwischen den Hauptverursachern der Treibhausgasemissionen (reiche Länder des Nordens) und den derzeit Hauptbetroffenen der Erderhitzung und ihrer katastrophalen Folgen: nämlich arme Menschen\, Frauen\, Kinder\, indigene Völker in Ländern des globalen Südens\, die für die Folgen des Klimawandels besonders verletzlich sind. Aber auch in reichen Ländern wie Österreich ist die Betroffenheit durch die Folgen des Klimawandels sozial ungleich verteilt\, treffen sie Angehörige der Arbeiterschicht (z.B. Bauarbeiter) und sozial schwächere Gruppen stärker\, z.B. Personen\, deren Wohnung von Hitze stärker betroffen ist. Es geht dabei um die Konsequenzen von Extremwetterereignissen wie Hitze\, Dürre\, Trockenheit\, Starkregen und Überflutungen\, Hurrikans usw.\, die sich aufgrund der Störung des Klimasystems sowohl häufen als auch verstärken. \n\n\n\nMehr zur Seminarreihe Klimagerechtigkeit findet sich in dem folgenden Folder:\n\n\n\nFolder_Klimagerechtigkeit-2025-26Herunterladen
URL:https://nachhaltigeuniversitaeten.at/event/klimagerechtigkeit/
END:VEVENT
BEGIN:VEVENT
DTSTART;TZID=Europe/Vienna:20251120T000000
DTEND;TZID=Europe/Vienna:20251217T235959
DTSTAMP:20260423T182917
CREATED:20251117T092223Z
LAST-MODIFIED:20251117T092225Z
UID:9779-1763596800-1766015999@nachhaltigeuniversitaeten.at
SUMMARY:Arts of Change Ausstellung
DESCRIPTION:20.11–3.12.2025MUMUTH – Haus für Musikund Musiktheater FoyerVernissage 19.11. 19:0011.12.–17.12.2025Akademie der bildenden Künste WienExhibit EschenbachgasseVernissage 10.12. 19:00 \n\n\n\nAoC_Poster_Final_comprHerunterladen
URL:https://nachhaltigeuniversitaeten.at/event/arts-of-change-ausstellung/
END:VEVENT
BEGIN:VEVENT
DTSTART;TZID=Europe/Vienna:20251123T000000
DTEND;TZID=Europe/Vienna:20251123T235959
DTSTAMP:20260423T182917
CREATED:20250812T093610Z
LAST-MODIFIED:20250812T093611Z
UID:9544-1763856000-1763942399@nachhaltigeuniversitaeten.at
SUMMARY:Entwicklungstagung 2025
DESCRIPTION:Aktuelles – Entwicklungstagung \n\n\n\n“Peace\, justice and stable institutions.”\n\n\n\nWeighty words make up the 16th goal of the Sustainable Development Goals: Peace\, justice and strong institutions. It formulates a grand vision\, as peace and justice are ancient dreams of humankind. As the penultimate goal\, it brings together more dimensions than any other of the United Nations‘ 17 Sustainable Development Goals. At first glance\, these dimensions do not seem to fit together. However\, upon closer examination\, it becomes clear that almost all of the other SDGs cannot be achieved without inclusive\, effective and accountable institutions. Many goals are invalid or even nullified without peace\, while achieving them would bring great progress for justice. In this respect\, SDG 16 is the central building block of the entire SDG architecture.In the current global political situation\, we see the following three dimensions as central to the debate at the Development Conference: \n\n\n\n1. peace and conflict management \n\n\n\n2. geopolitical interests and authoritarian tendencies \n\n\n\n3. justice and environmental justice \n\n\n\nSDG Goal 16\, the theme of the Austrian Development Conference 2025 in Innsbruck\, opens up a broad field of debate and discussion on fundamental questions of human development and liberation\, but also on specific development policy strategies. The aim is to create positive images of sustainable development that also encompass legal dimensions and are strong enough to stand up to one-sided appropriation and thus productively support and stimulate the development debate!
URL:https://nachhaltigeuniversitaeten.at/event/entwicklungstagung-2025/
END:VEVENT
END:VCALENDAR