BEGIN:VCALENDAR
VERSION:2.0
PRODID:-//nachhaltigeuniversitaeten.at - ECPv6.15.20//NONSGML v1.0//EN
CALSCALE:GREGORIAN
METHOD:PUBLISH
X-WR-CALNAME:nachhaltigeuniversitaeten.at
X-ORIGINAL-URL:https://nachhaltigeuniversitaeten.at
X-WR-CALDESC:Veranstaltungen für nachhaltigeuniversitaeten.at
REFRESH-INTERVAL;VALUE=DURATION:PT1H
X-Robots-Tag:noindex
X-PUBLISHED-TTL:PT1H
BEGIN:VTIMEZONE
TZID:Europe/Vienna
BEGIN:DAYLIGHT
TZOFFSETFROM:+0100
TZOFFSETTO:+0200
TZNAME:CEST
DTSTART:20240331T010000
END:DAYLIGHT
BEGIN:STANDARD
TZOFFSETFROM:+0200
TZOFFSETTO:+0100
TZNAME:CET
DTSTART:20241027T010000
END:STANDARD
BEGIN:DAYLIGHT
TZOFFSETFROM:+0100
TZOFFSETTO:+0200
TZNAME:CEST
DTSTART:20250330T010000
END:DAYLIGHT
BEGIN:STANDARD
TZOFFSETFROM:+0200
TZOFFSETTO:+0100
TZNAME:CET
DTSTART:20251026T010000
END:STANDARD
BEGIN:DAYLIGHT
TZOFFSETFROM:+0100
TZOFFSETTO:+0200
TZNAME:CEST
DTSTART:20260329T010000
END:DAYLIGHT
BEGIN:STANDARD
TZOFFSETFROM:+0200
TZOFFSETTO:+0100
TZNAME:CET
DTSTART:20261025T010000
END:STANDARD
BEGIN:DAYLIGHT
TZOFFSETFROM:+0100
TZOFFSETTO:+0200
TZNAME:CEST
DTSTART:20270328T010000
END:DAYLIGHT
BEGIN:STANDARD
TZOFFSETFROM:+0200
TZOFFSETTO:+0100
TZNAME:CET
DTSTART:20271031T010000
END:STANDARD
END:VTIMEZONE
BEGIN:VEVENT
DTSTART;TZID=Europe/Vienna:20250512T000000
DTEND;TZID=Europe/Vienna:20260113T235959
DTSTAMP:20260422T010936
CREATED:20250408T124751Z
LAST-MODIFIED:20250408T124753Z
UID:9025-1747008000-1768348799@nachhaltigeuniversitaeten.at
SUMMARY:Klimagerechtigkeit – Ethische Reflexion und transformatives Handeln
DESCRIPTION:Seminarreihe Klimagerechtigkeit findet im Sommersemester 2025 – Wintersemester 2025/26 statt. www.donau-uni.ac.at/klimagerechtigkeit \n\n\n\n\n\nDie Seminarreihe bietet eine Auseinandersetzung mit zentralen Aspekten der Klimakrise. Es handelt sich um ein niederschwelligen Weiterbildungsangebots (berufsbegleitend möglich; keine Prüfungen). Im Zentrum steht die Frage nach Klimagerechtigkeit\, also nach der ethischen Dimension der Klimakrise. Der globale Klimanotstand wirft zahlreiche\, gravierende moralische Fragen auf\, vor allem aufgrund der Asymmetrie zwischen den Hauptverursachern der Treibhausgasemissionen (reiche Länder des Nordens) und den derzeit Hauptbetroffenen der Erderhitzung und ihrer katastrophalen Folgen: nämlich arme Menschen\, Frauen\, Kinder\, indigene Völker in Ländern des globalen Südens\, die für die Folgen des Klimawandels besonders verletzlich sind. Aber auch in reichen Ländern wie Österreich ist die Betroffenheit durch die Folgen des Klimawandels sozial ungleich verteilt\, treffen sie Angehörige der Arbeiterschicht (z.B. Bauarbeiter) und sozial schwächere Gruppen stärker\, z.B. Personen\, deren Wohnung von Hitze stärker betroffen ist. Es geht dabei um die Konsequenzen von Extremwetterereignissen wie Hitze\, Dürre\, Trockenheit\, Starkregen und Überflutungen\, Hurrikans usw.\, die sich aufgrund der Störung des Klimasystems sowohl häufen als auch verstärken. \n\n\n\nMehr zur Seminarreihe Klimagerechtigkeit findet sich in dem folgenden Folder:\n\n\n\nFolder_Klimagerechtigkeit-2025-26Herunterladen
URL:https://nachhaltigeuniversitaeten.at/event/klimagerechtigkeit/
END:VEVENT
BEGIN:VEVENT
DTSTART;TZID=Europe/Vienna:20250714T000000
DTEND;TZID=Europe/Vienna:20250801T235959
DTSTAMP:20260422T010936
CREATED:20250319T103140Z
LAST-MODIFIED:20250319T103141Z
UID:8968-1752451200-1754092799@nachhaltigeuniversitaeten.at
SUMMARY:#studis: „Alternative Economic and Monetary Systems“ Summer School 2025
DESCRIPTION:The Summer University is an exciting academic program that offers a holistic approach to sustainability and the dynamic connections between economy\, society\, and the environment. Get ready for engaging lectures\, lively discussions\, interactive workshops\, and a variety of extracurricular activities – all set in the vibrant city of Vienna. \n\n\n\nThe program’s core is woven around four interconnected modules that build on the preparatory materials. These modules provide a comprehensive\, systemic understanding of sustainability\, with the protection of our natural resources and biosphere at the center: \n\n\n\n\nBasics & NatureGain insight into today’s global socio-economic landscape and explore why a fundamental transformation is necessary. Understand the link between the pursuit of infinite economic growth\, planetary boundaries\, and climate change.\n\n\n\nFinance & MoneyExamine the role of money\, international banking systems\, financial markets\, and ethics within the monetary system. Explore alternative approaches\, such as complementary currencies\, while tackling the key question: “How can financial markets serve eco-social interests instead of their own?”\n\n\n\nEconomics with social and ecological valuesAt the heart of the summer university\, this module explores transformative alternatives for reforming economic and financial systems. Topics include Doughnut Economics\, democratic banking\, de-growth\, positive money\, reduced working hours\, and more — approach solutions from a holistic perspective!\n\n\n\nA social-ecological transformationDive into the socio-political dimensions of transformation\, including activism\, power structures\, and systemic change. Collaborate on group projects addressing social\, ecological\, or economic challenges\, present your solutions\, and reflect on key learnings of the entire program.\n\n\n\nWrap-Up and SynthesisOngoing reflection sessions throughout the program provide space to consolidate and connect the many concepts\, ideas\, and experiences explored. This final module allows you to synthesize your learnings and deepen your understanding of systemic change.\n\n\n\n\nMore Information: Alternative Economic and Monetary Systems – OeAD student housing
URL:https://nachhaltigeuniversitaeten.at/event/studis-alternative-economic-and-monetary-systems-summer-school-2025/
END:VEVENT
BEGIN:VEVENT
DTSTART;TZID=Europe/Vienna:20250714T000000
DTEND;TZID=Europe/Vienna:20250802T235959
DTSTAMP:20260422T010936
CREATED:20250319T102854Z
LAST-MODIFIED:20250319T102855Z
UID:8965-1752451200-1754179199@nachhaltigeuniversitaeten.at
SUMMARY:#studis: Summer School „Green Building Solutions“ 2025
DESCRIPTION:The GBS is an academic program\, managed and implemented by the OeAD student housing. It is mainly organized in cooperation with the University of Natural Resources and Life Sciences Vienna (BOKU University) and the Technical University Vienna (TU Wien)\,and more than 70 other partners worldwide. The educational program\, held annually in Vienna\, offers a holistic approach to sustainability and combines lectures\, panel discussions\, workshops\, and extracurricular activities. Through hands-on education\, pioneering architects\, planners\, and engineers share their personal experiences and best practices\, offering valuable insights into the integration of sustainability and quality in design and construction. \n\n\n\nJoin for a unique learning experience together with international students and professionals! \n\n\n\nMore Information: Green.Building.Solutions. – OeAD student housing \n\n\n\nWhy GBS?\n\n\n\nThe future growth of cities together with the climate crisis poses several new challenges to municipalities\, city planners and architects. In order to come up with solutions for these challenges\, education and interdisciplinary collaboration are crucial. \n\n\n\nRight now\, during a time where climate change leaves no room for delay\, the future growth of cities and the increasing global population pose immense challenges for municipalities\, city planners\, and architects. To create ecological and sustainable solutions for urban development\, building and the energy sector\, expanding knowledge\, fostering collaboration\, and promoting innovative approaches are crucial. Build better for next generations! \n\n\n\nGBS showcases not only how sustainable buildings are possible\, but also how they can achieve the highest quality standards\, providing healthy\, future-proof living environments for generations to come. Learn from leading experts who will share their experiences and success stories with you – and be inspired on how you can actively contribute to shaping a better built environment for our future.
URL:https://nachhaltigeuniversitaeten.at/event/studis-summer-school-green-building-solutions-2025/
END:VEVENT
END:VCALENDAR