BEGIN:VCALENDAR
VERSION:2.0
PRODID:-//nachhaltigeuniversitaeten.at - ECPv6.15.20//NONSGML v1.0//EN
CALSCALE:GREGORIAN
METHOD:PUBLISH
X-WR-CALNAME:nachhaltigeuniversitaeten.at
X-ORIGINAL-URL:https://nachhaltigeuniversitaeten.at
X-WR-CALDESC:Veranstaltungen für nachhaltigeuniversitaeten.at
REFRESH-INTERVAL;VALUE=DURATION:PT1H
X-Robots-Tag:noindex
X-PUBLISHED-TTL:PT1H
BEGIN:VTIMEZONE
TZID:Europe/Vienna
BEGIN:DAYLIGHT
TZOFFSETFROM:+0100
TZOFFSETTO:+0200
TZNAME:CEST
DTSTART:20230326T010000
END:DAYLIGHT
BEGIN:STANDARD
TZOFFSETFROM:+0200
TZOFFSETTO:+0100
TZNAME:CET
DTSTART:20231029T010000
END:STANDARD
BEGIN:DAYLIGHT
TZOFFSETFROM:+0100
TZOFFSETTO:+0200
TZNAME:CEST
DTSTART:20240331T010000
END:DAYLIGHT
BEGIN:STANDARD
TZOFFSETFROM:+0200
TZOFFSETTO:+0100
TZNAME:CET
DTSTART:20241027T010000
END:STANDARD
BEGIN:DAYLIGHT
TZOFFSETFROM:+0100
TZOFFSETTO:+0200
TZNAME:CEST
DTSTART:20250330T010000
END:DAYLIGHT
BEGIN:STANDARD
TZOFFSETFROM:+0200
TZOFFSETTO:+0100
TZNAME:CET
DTSTART:20251026T010000
END:STANDARD
BEGIN:DAYLIGHT
TZOFFSETFROM:+0100
TZOFFSETTO:+0200
TZNAME:CEST
DTSTART:20260329T010000
END:DAYLIGHT
BEGIN:STANDARD
TZOFFSETFROM:+0200
TZOFFSETTO:+0100
TZNAME:CET
DTSTART:20261025T010000
END:STANDARD
END:VTIMEZONE
BEGIN:VEVENT
DTSTART;TZID=Europe/Vienna:20241017T000000
DTEND;TZID=Europe/Vienna:20250627T235959
DTSTAMP:20260420T003824
CREATED:20240902T110257Z
LAST-MODIFIED:20240902T110258Z
UID:8459-1729123200-1751068799@nachhaltigeuniversitaeten.at
SUMMARY:#studis: Sustainability Challenge 2024/25
DESCRIPTION:Die Sustainability Challenge findet auch 2024/25 wieder statt!  \n\n\n\n60 Studierende – 7 Universitäten – 1 Ziel: zweisemestrige Wahllehrveranstaltung zum ThemaNachhaltigkeit\, mit Fokus auf den Sustainable Development Goals (SDGs). Masterstudierendeund fortgeschrittene Bachelorstudierende aller Studienrichtungen sind herzlich eingeladen\, sichfür diese interdisziplinäre\, universitätsübergreifende Lehrveranstaltung mit Impact zubewerben\, Praxiserfahrung sowie ECTS zu sammeln.Bewerbungen sind über das Online-Formular ab sofort bis 23. September möglich! \n\n\n\nMehr Infos gibt es auch hier:  \n\n\n\nSustainabilityChallenge_Infoblatt_2024.pdf (rce-vienna.at) \n\n\n\n(c) Sustainability Challenge \n\n\n\nDie Sustainability Challenge ist eine Chance\, sich einzubringen\, eigene Talente zu erkennen und sich persönlich weiterzuentwickeln! \n\n\n\n\nRaus aus der Bubble und rein in den Austausch mit Studierenden unterschiedlichster Studienrichtungen und Unis\n\n\n\nProjektarbeit statt Uni-Alltag aber mit 8 ECTS\n\n\n\nZusammenarbeit in einem interdisziplinären Team\n\n\n\nKeine Prüfung\, dafür intensive Projektarbeit mit Unternehmen und Organisationen\, die sich für Nachhaltigkeit einsetzen oder Gründungsluft mit dem eigenen Start-up schnuppern\n\n\n\nAustausch\, Input & Betreuung von Lehrenden der 7 Universitäten aus unterschiedlichen Fachbereichen\n\n\n\nWahllehrveranstaltung mit Schwerpunkt Nachhaltigkeit\, SDGs & Klimaschutz – Kunst\, Technik\, Sozial-\, Geistes- und Naturwissenschaften\n\n\n\nNeue Leute kennenlernen und das eigene Netzwerk ausbauen: Unternehmen\, Studierende\, Lehrende & weitere engagierte Menschen\n\n\n\nZukunftsperspektive und Jobchancen\n\n\n\nStart: Oktober 2024\n\n\n\n\nÜber die Sustainability Challenge Website kann man sich ab sofort bis zum 23.9.24 über das Online-Formular für eine Teilnahme bewerben. \n\n\n\nNähere Informationen zum Ablauf\, den Lehrenden sowie Projektpartner*innen unter www.sustainabilitychallenge.at
URL:https://nachhaltigeuniversitaeten.at/event/sustainability-challenge-2024-25/
END:VEVENT
BEGIN:VEVENT
DTSTART;TZID=Europe/Vienna:20250305T000000
DTEND;TZID=Europe/Vienna:20250604T235959
DTSTAMP:20260420T003824
CREATED:20250319T104454Z
LAST-MODIFIED:20250319T104455Z
UID:8980-1741132800-1749081599@nachhaltigeuniversitaeten.at
SUMMARY:Vortragsreihe „Kunst – Forschung – Geschlecht“
DESCRIPTION:Flucht\, Migration und Geschlechterverhältnisse\n\n\n\nUnter dem Titel Flucht\, Migration und Geschlechterverhältnisse befasst sich die Vortragsreihe Kunst – Forschung – Geschlecht im Studienjahr 2024/25 mit dem Verhältnis von Geschlecht und Sexualität in Flucht und Migration. \n\n\n\nIn der Ringvorlesung werden marginalisierte Perspektiven\, insbesondere Flucht- und Migrationsgründe\, sowie Verfolgung auf Grund von sexueller Orientierung und/ oder Geschlechtsidentität\, aber auch machtpolitische Hintergründe thematisiert. \n\n\n\nAnmeldung / RegistrationDie Vortragsreihe der Universität für angewandte Kunst Wien ist für alle interessierten Personen offen. Studierende können die Veranstaltung als Lehrveranstaltung semesterweise absolvieren. Anmeldung von 03. Februar 2025 bis 16. März 2025 per Online Anmeldung: https://base.uni-ak.ac.at/courses/2025S/S05237/ . \n\n\n\nTermine von 5.3.-4.6. jeweils 18:00 \n\n\n\nMehr Informationen gibt es hier: Vortragsreihe „Kunst – Forschung – Geschlecht“ – dieAngewandte
URL:https://nachhaltigeuniversitaeten.at/event/vortragsreihe-kunst-forschung-geschlecht/
END:VEVENT
BEGIN:VEVENT
DTSTART;TZID=Europe/Vienna:20250508T000000
DTEND;TZID=Europe/Vienna:20250509T235959
DTSTAMP:20260420T003824
CREATED:20250304T100253Z
LAST-MODIFIED:20250304T100254Z
UID:8917-1746662400-1746835199@nachhaltigeuniversitaeten.at
SUMMARY:#studis: Student Organizing For Sustainability International Summit 2025
DESCRIPTION:The SOS-International summit is back for 2025! Following the huge success of the summit in 2024 at University of Twente\, here the details for the 2025 event: \n\n\n\nThe theme for the 2025 SOS-Int Summit is ‘Mobilizing student leadership for environmental justice’ will bring together workshops\, keynotes and panelists to equip you and your team with the knowledge\, skills and connections to take your work on sustainability and climate justice to the next level. \n\n\n\nWhere: the 2025 summit will be hosted by Green Office Ghent\, Belgium. It is a 2-day event\, running on Thursday 8th and Friday 9thMay 2025. For those travelling from further away\, a social dinner will be available as an add-on for the evening of Wednesday 7th May. On Saturday 10th May\, they are planning a sustainability-themed tour in and around Ghent\, more details to follow. \n\n\n\nThe summit brings together students\, staff and changemakers from across the higher education for sustainability community. \n\n\n\nBookings are now open via the dedicated Eventbrite page (click book tickets).
URL:https://nachhaltigeuniversitaeten.at/event/studis-student-organizing-for-sustainability-international-summit-2025/
END:VEVENT
END:VCALENDAR