BEGIN:VCALENDAR
VERSION:2.0
PRODID:-//nachhaltigeuniversitaeten.at - ECPv6.15.20//NONSGML v1.0//EN
CALSCALE:GREGORIAN
METHOD:PUBLISH
X-WR-CALNAME:nachhaltigeuniversitaeten.at
X-ORIGINAL-URL:https://nachhaltigeuniversitaeten.at
X-WR-CALDESC:Veranstaltungen für nachhaltigeuniversitaeten.at
REFRESH-INTERVAL;VALUE=DURATION:PT1H
X-Robots-Tag:noindex
X-PUBLISHED-TTL:PT1H
BEGIN:VTIMEZONE
TZID:Europe/Vienna
BEGIN:DAYLIGHT
TZOFFSETFROM:+0100
TZOFFSETTO:+0200
TZNAME:CEST
DTSTART:20230326T010000
END:DAYLIGHT
BEGIN:STANDARD
TZOFFSETFROM:+0200
TZOFFSETTO:+0100
TZNAME:CET
DTSTART:20231029T010000
END:STANDARD
BEGIN:DAYLIGHT
TZOFFSETFROM:+0100
TZOFFSETTO:+0200
TZNAME:CEST
DTSTART:20240331T010000
END:DAYLIGHT
BEGIN:STANDARD
TZOFFSETFROM:+0200
TZOFFSETTO:+0100
TZNAME:CET
DTSTART:20241027T010000
END:STANDARD
BEGIN:DAYLIGHT
TZOFFSETFROM:+0100
TZOFFSETTO:+0200
TZNAME:CEST
DTSTART:20250330T010000
END:DAYLIGHT
BEGIN:STANDARD
TZOFFSETFROM:+0200
TZOFFSETTO:+0100
TZNAME:CET
DTSTART:20251026T010000
END:STANDARD
BEGIN:DAYLIGHT
TZOFFSETFROM:+0100
TZOFFSETTO:+0200
TZNAME:CEST
DTSTART:20260329T010000
END:DAYLIGHT
BEGIN:STANDARD
TZOFFSETFROM:+0200
TZOFFSETTO:+0100
TZNAME:CET
DTSTART:20261025T010000
END:STANDARD
END:VTIMEZONE
BEGIN:VEVENT
DTSTART;TZID=Europe/Vienna:20241006T080000
DTEND;TZID=Europe/Vienna:20250131T170000
DTSTAMP:20260421T172328
CREATED:20240829T130006Z
LAST-MODIFIED:20240829T130009Z
UID:8451-1728201600-1738342800@nachhaltigeuniversitaeten.at
SUMMARY:Lectures for Future 2024
DESCRIPTION:Auch dieses Jahr finden im Wintersemester 2024/25 wieder die Lectures for Future an mehreren österreichischen Universitäten statt: L4F  \n\n\n\nHier einige Hinweise auf die einzelnen Angeboten an den Universitäten:  \n\n\n\nProgramm der Lectures for Future an der Universität für Musik und darstellende Kunst Wien (mdw)\n\n\n\nLectures for Future | grüne-mdw  \n\n\n\nWir rufen nach einem guten Leben für alle – aber wollen wir das wirklich? Oder geht es nur um den Erhalt unseres Wohlstandes\, unserer Privilegien\, unserer Bequemlichkeit? Die derzeitige Lebensweise im globalen Norden beruht auf Ausbeutung\, Enteignung\, Ungleichheit. \n\n\n\nWir sind aufgerufen\, alle bisherigen Systeme\, Haltungen und deren Denk- und Handlungsmuster zu hinterfragen und müssen die Komplexität der Lage verstehen lernen. Wir müssen das Risiko eingehen\, Welt neu zu denken\, neue Wege der Inspiration zu beschreiten und alte Gewohnheiten zu ver_üben. Dies bedarf einer „radikalen Vorstellungskraft“. \n\n\n\nDer Kunst in all ihren Facetten kommt in diesem Prozess eine bedeutsame Rolle zu\, da sie uns immer wieder zu einem anderen Wahrnehmen\, einem anderen Wissen einlädt. \n\n\n\nAuf der Suche nach künstlerischen Ausdrucksformen und Handlungsmöglichkeiten ergeben sich neue inhaltliche Fragen\, die uns in die Recherche / ins Forschen bringen. Das daraus resultierende Wissen / die neuen Informationen inspirieren wieder zu neuen künstlerischen Wegen. Solche Prozesse werden bei jedem_jeder einzelnen Teilnehmenden sowie für die ganze Gruppe angestoßen und begleitet. Das Ziel ist ein Aufheben von Trennungen\, mit denen Künstler_innen und Wissenschaftler_innen oft zu kämpfen haben: der Trennung zwischen Kunst und Wissenschaft\, zwischen verschiedenen künstlerischen/wissenschaftlichen Disziplinen\, zwischen Denken und Handeln\, zwischen Mensch sein und Künstler_in sein.
URL:https://nachhaltigeuniversitaeten.at/event/lectures-for-future-2024/
END:VEVENT
END:VCALENDAR