BEGIN:VCALENDAR
VERSION:2.0
PRODID:-//nachhaltigeuniversitaeten.at - ECPv6.15.20//NONSGML v1.0//EN
CALSCALE:GREGORIAN
METHOD:PUBLISH
X-WR-CALNAME:nachhaltigeuniversitaeten.at
X-ORIGINAL-URL:https://nachhaltigeuniversitaeten.at
X-WR-CALDESC:Veranstaltungen für nachhaltigeuniversitaeten.at
REFRESH-INTERVAL;VALUE=DURATION:PT1H
X-Robots-Tag:noindex
X-PUBLISHED-TTL:PT1H
BEGIN:VTIMEZONE
TZID:Europe/Vienna
BEGIN:DAYLIGHT
TZOFFSETFROM:+0100
TZOFFSETTO:+0200
TZNAME:CEST
DTSTART:20230326T010000
END:DAYLIGHT
BEGIN:STANDARD
TZOFFSETFROM:+0200
TZOFFSETTO:+0100
TZNAME:CET
DTSTART:20231029T010000
END:STANDARD
BEGIN:DAYLIGHT
TZOFFSETFROM:+0100
TZOFFSETTO:+0200
TZNAME:CEST
DTSTART:20240331T010000
END:DAYLIGHT
BEGIN:STANDARD
TZOFFSETFROM:+0200
TZOFFSETTO:+0100
TZNAME:CET
DTSTART:20241027T010000
END:STANDARD
BEGIN:DAYLIGHT
TZOFFSETFROM:+0100
TZOFFSETTO:+0200
TZNAME:CEST
DTSTART:20250330T010000
END:DAYLIGHT
BEGIN:STANDARD
TZOFFSETFROM:+0200
TZOFFSETTO:+0100
TZNAME:CET
DTSTART:20251026T010000
END:STANDARD
END:VTIMEZONE
BEGIN:VEVENT
DTSTART;TZID=Europe/Vienna:20240930T000000
DTEND;TZID=Europe/Vienna:20241001T235959
DTSTAMP:20260421T173014
CREATED:20240829T131517Z
LAST-MODIFIED:20240829T131518Z
UID:8457-1727654400-1727827199@nachhaltigeuniversitaeten.at
SUMMARY:UniNEtZ Veranstaltung: „ZUKUNFTSDIALOG – TRANSFORMATION und VERANTWORTUNG“
DESCRIPTION:Die UniNEtZ Veranstaltung „ZUKUNFTSDIALOG – TRANSFORMATION und VERANTWORTUNG“ an der Universität Mozarteum greift eine Diskussion zur Rolle bzw. Selbstpositio­nierung der Wissenschaft auf. Angesichts der Gegenwartsdiagnose eines zunehmend instabilen Zustands des Ökosystems und der Gesellschaft und daher existenzbedrohenden Zukunftsaussichten kann Wissenschaft bzw. können Wissenschaftler*innen ihre traditionell neutrale Position nicht länger aufrechterhalten. \n\n\n\nAus dem Wissen um Missstände sowie um Handlungsoptionen und Handlungsnotwendigkeiten resultiert Verantwortung für Transformation\, die wesentlich weiter als das bloße Publizieren von Erkenntnissen reicht. \n\n\n\nIm Zentrum des UniNEtZ Zukunftsdialog steht die Neupositionierung von Wissenschaftler*innen und Künstler*innen\, die bewusst danach streben\, selbst transformativ zu werden\, und die diese normative Positionierung für Nachhaltigkeit auch klar deklarieren. In diesem Sinn zielt die Veranstaltung darauf ab\, dass Wissenschaftler*innen\, Künstler*innen und Verantwortliche für transformative Maßnahmen in Richtung einer nachhaltigen Zukunft in einen faktenbasierten\, lösungsorientierten und co-kreativen Austausch treten. \n\n\n\nOrt: Universität Mozarteum Salzburg\, Mirabellplatz 1\, 5020 Salzburg im Solitär (eigenes Gebäude\, rechts vom Haupteingang)Datum: 30.09 – 01.10.2024Anmeldelink: https://pretix.eu/uninetz/zukunftsdialogDas Programm finden Sie hier.
URL:https://nachhaltigeuniversitaeten.at/event/uninetz-zukunftsdialog/
END:VEVENT
END:VCALENDAR